BEGIN:VCALENDAR
VERSION:2.0
PRODID:-//wp-events-plugin.com//7.2.3.1//EN
TZID:Europe/Berlin
X-WR-TIMEZONE:Europe/Berlin
BEGIN:VEVENT
UID:271@dorstadt.de
DTSTART;TZID=Europe/Berlin:20220625T183000
DTEND;TZID=Europe/Berlin:20220625T183000
DTSTAMP:20220413T112556Z
URL:https://www.dorstadt.de/Kalender/weinfest/
SUMMARY:Weinfest
DESCRIPTION:Am Samstag\, 25. Juni 2022 veranstaltet der MTV Dorstadt ab 18:
 30 Uhr im Dorfgemeinschaftshaus ein Weinfest.\n\nUm Anmeldung zur besseren
  Planung für Speisen und Getränke wird gebeten.\n\nAnmeldungen bei\nNorb
 ert Mrohs Tel.: 0151-54821565\, E-Mail: n.mrohs@t-online.de oder\nCarsten 
 Voigt Tel.: 0171-6846096\, E-Mail: mtv@dorstadt.de\n\n&nbsp\;\n\nWeitere I
 nformationen: 2022-04-Flyer-Weinfest
ATTACH;FMTTYPE=image/jpeg:https://www.dorstadt.de/wp-content/uploads/Weinf
 est.jpg
CATEGORIES:Feier,MTV,Vereine
LOCATION:Dorfgemeinschaftshaus\, Schulstraße 11\, Dorstadt\, 38312\, Deuts
 chland
X-APPLE-STRUCTURED-LOCATION;VALUE=URI;X-ADDRESS=Schulstraße 11\, Dorstadt\
 , 38312\, Deutschland;X-APPLE-RADIUS=100;X-TITLE=Dorfgemeinschaftshaus:geo
 :0,0
END:VEVENT
BEGIN:VTIMEZONE
TZID:Europe/Berlin
X-LIC-LOCATION:Europe/Berlin
BEGIN:DAYLIGHT
DTSTART:20220327T030000
TZOFFSETFROM:+0100
TZOFFSETTO:+0200
TZNAME:CEST
END:DAYLIGHT
END:VTIMEZONE
END:VCALENDAR