BEGIN:VCALENDAR
VERSION:2.0
PRODID:-//wp-events-plugin.com//7.2.3.1//EN
TZID:Europe/Berlin
X-WR-TIMEZONE:Europe/Berlin
BEGIN:VEVENT
UID:191@dorstadt.de
DTSTART;TZID=Europe/Berlin:20201206T140000
DTEND;TZID=Europe/Berlin:20201206T140000
DTSTAMP:20201030T075253Z
URL:https://www.dorstadt.de/Kalender/weihnachtsmarkt-3/
SUMMARY:Weihnachtsmarkt - ABGESAGT
DESCRIPTION:
CATEGORIES:MTV,Vereine
LOCATION:Rittergut\, Rittergut\, Dorstadt\, 38312\, Deutschland
X-APPLE-STRUCTURED-LOCATION;VALUE=URI;X-ADDRESS=Rittergut\, Dorstadt\, 3831
 2\, Deutschland;X-APPLE-RADIUS=100;X-TITLE=Rittergut:geo:0,0
END:VEVENT
BEGIN:VTIMEZONE
TZID:Europe/Berlin
X-LIC-LOCATION:Europe/Berlin
BEGIN:STANDARD
DTSTART:20201025T020000
TZOFFSETFROM:+0200
TZOFFSETTO:+0100
TZNAME:CET
END:STANDARD
END:VTIMEZONE
END:VCALENDAR