BEGIN:VCALENDAR
VERSION:2.0
PRODID:-//wp-events-plugin.com//7.2.3.1//EN
TZID:Europe/Berlin
X-WR-TIMEZONE:Europe/Berlin
BEGIN:VEVENT
UID:350@dorstadt.de
DTSTART;TZID=Europe/Berlin:20230524T150000
DTEND;TZID=Europe/Berlin:20230524T170000
DTSTAMP:20230504T083221Z
URL:https://www.dorstadt.de/Kalender/vom-mysterium-im-menschsein/
SUMMARY:Garten Eden: Vom Mysterium im Menschsein
DESCRIPTION:Wir sprechen über das Thema 'Schuld und Sünde' und was es dam
 it auf sich haben könnte.\n\nHinweise:\nVeranstaltungsort: Begegnungsstä
 tte 'Refugium' oder Wohngruppe Garten Eden (Rittergut 4a)\nEintritt frei -
  Spendendose (zur Unterhaltung des Refugiums).\nEingang ‚Refugium‘ von
  der Harzstraße aus\, wo auch Parkplätze sind.
ATTACH;FMTTYPE=image/jpeg:https://www.dorstadt.de/wp-content/uploads/CIMG7
 535.jpg
CATEGORIES:Garten Eden
LOCATION:Begegnungsstätte 'Refugium' / Garten Eden\, Rittergut 4a\, Dorsta
 dt\, 38312 \, Deutschland
X-APPLE-STRUCTURED-LOCATION;VALUE=URI;X-ADDRESS=Rittergut 4a\, Dorstadt\, 3
 8312 \, Deutschland;X-APPLE-RADIUS=100;X-TITLE=Begegnungsstätte 'Refugium
 ' / Garten Eden:geo:0,0
END:VEVENT
BEGIN:VTIMEZONE
TZID:Europe/Berlin
X-LIC-LOCATION:Europe/Berlin
BEGIN:DAYLIGHT
DTSTART:20230326T030000
TZOFFSETFROM:+0100
TZOFFSETTO:+0200
TZNAME:CEST
END:DAYLIGHT
END:VTIMEZONE
END:VCALENDAR