BEGIN:VCALENDAR
VERSION:2.0
PRODID:-//wp-events-plugin.com//7.2.3.1//EN
TZID:Europe/Berlin
X-WR-TIMEZONE:Europe/Berlin
BEGIN:VEVENT
UID:351@dorstadt.de
DTSTART;TZID=Europe/Berlin:20230413T010000
DTEND;TZID=Europe/Berlin:20230413T010000
DTSTAMP:20230428T121525Z
URL:https://www.dorstadt.de/Kalender/test/
SUMMARY:Test
DESCRIPTION:ztestz
ATTACH;FMTTYPE=image/jpeg:https://www.dorstadt.de/wp-content/uploads/Garte
 n-Eden-1.jpg
CATEGORIES:Konzert
LOCATION:DGH Heiningen\, Hauptstraße 2a\, Heiningen\, 38312\, Deutschland
X-APPLE-STRUCTURED-LOCATION;VALUE=URI;X-ADDRESS=Hauptstraße 2a\, Heiningen
 \, 38312\, Deutschland;X-APPLE-RADIUS=100;X-TITLE=DGH Heiningen:geo:0,0
END:VEVENT
BEGIN:VTIMEZONE
TZID:Europe/Berlin
X-LIC-LOCATION:Europe/Berlin
BEGIN:DAYLIGHT
DTSTART:20230326T030000
TZOFFSETFROM:+0100
TZOFFSETTO:+0200
TZNAME:CEST
END:DAYLIGHT
END:VTIMEZONE
END:VCALENDAR