BEGIN:VCALENDAR
VERSION:2.0
PRODID:-//wp-events-plugin.com//7.2.3.1//EN
TZID:Europe/Berlin
X-WR-TIMEZONE:Europe/Berlin
BEGIN:VEVENT
UID:11@dorstadt.de
DTSTART:20180908T140000Z
DTEND:20180908T140000Z
DTSTAMP:20220302T080911Z
URL:https://www.dorstadt.de/Kalender/tag-der-offenen-tuer/
SUMMARY:Tag der offenen Tür
DESCRIPTION:
CATEGORIES:Schützenverein,Vereine
LOCATION:Schützenheim SV Dorstadt\, Rittergut\, Dorstadt\, 38312\, Deutsch
 land
X-APPLE-STRUCTURED-LOCATION;VALUE=URI;X-ADDRESS=Rittergut\, Dorstadt\, 3831
 2\, Deutschland;X-APPLE-RADIUS=100;X-TITLE=Schützenheim SV Dorstadt:geo:0
 ,0
END:VEVENT
END:VCALENDAR