BEGIN:VCALENDAR
VERSION:2.0
PRODID:-//wp-events-plugin.com//7.2.3.1//EN
TZID:Europe/Berlin
X-WR-TIMEZONE:Europe/Berlin
BEGIN:VEVENT
UID:4@dorstadt.de
DTSTART:20180705T000000Z
DTEND:20180708T000000Z
DTSTAMP:20190112T183008Z
URL:https://www.dorstadt.de/Kalender/sportwoche/
SUMMARY:Sportwoche
DESCRIPTION:Flyer Ort\n\nFlyer BubbleBall\n\nVfR Sportwoche
CATEGORIES:Feier,Sport,Vereine,VfR
LOCATION:Sportplatz\, Schulstraße 11\, Dorstadt\, 38312\, Deutschland
X-APPLE-STRUCTURED-LOCATION;VALUE=URI;X-ADDRESS=Schulstraße 11\, Dorstadt\
 , 38312\, Deutschland;X-APPLE-RADIUS=100;X-TITLE=Sportplatz:geo:0,0
END:VEVENT
END:VCALENDAR