BEGIN:VCALENDAR
VERSION:2.0
PRODID:-//wp-events-plugin.com//7.2.3.1//EN
TZID:Europe/Berlin
X-WR-TIMEZONE:Europe/Berlin
BEGIN:VEVENT
UID:450@dorstadt.de
DTSTART;TZID=Europe/Berlin:20250319T181500
DTEND;TZID=Europe/Berlin:20250319T181500
DTSTAMP:20250110T175924Z
URL:https://www.dorstadt.de/Kalender/skatfreunde-oderwald-9/
SUMMARY:Skatfreunde Oderwald
DESCRIPTION:An diesem Abend treffen sich die Skatfreunde Oderwald im DGH He
 iningen. Dabei handelt es sich um ein Projekt\, das im Rahmen von Oderwald
  Sozial stattfindet. Weitere Termine finden im 14-tägigen Wechsel in ande
 ren Ortschaften der Samtgemeinde Oderwald statt.
ATTACH;FMTTYPE=image/jpeg:https://www.dorstadt.de/wp-content/uploads/Skat-
 1.jpg
CATEGORIES:Oderwald Sozial,Skatfreunde
LOCATION:DGH Heiningen\, Hauptstraße 2a\, Heiningen\, 38312\, Deutschland
X-APPLE-STRUCTURED-LOCATION;VALUE=URI;X-ADDRESS=Hauptstraße 2a\, Heiningen
 \, 38312\, Deutschland;X-APPLE-RADIUS=100;X-TITLE=DGH Heiningen:geo:0,0
END:VEVENT
BEGIN:VTIMEZONE
TZID:Europe/Berlin
X-LIC-LOCATION:Europe/Berlin
BEGIN:STANDARD
DTSTART:20241027T020000
TZOFFSETFROM:+0200
TZOFFSETTO:+0100
TZNAME:CET
END:STANDARD
END:VTIMEZONE
END:VCALENDAR