BEGIN:VCALENDAR
VERSION:2.0
PRODID:-//wp-events-plugin.com//7.2.3.1//EN
TZID:Europe/Berlin
X-WR-TIMEZONE:Europe/Berlin
BEGIN:VEVENT
UID:449@dorstadt.de
DTSTART;TZID=Europe/Berlin:20250305T181500
DTEND;TZID=Europe/Berlin:20250305T181500
DTSTAMP:20250110T175740Z
URL:https://www.dorstadt.de/Kalender/skatfreunde-oderwald-8/
SUMMARY:Skatfreunde Oderwald
DESCRIPTION:An diesem Abend treffen sich die Skatfreunde Oderwald im DGH Do
 rstadt. Dabei handelt es sich um ein Projekt\, das im Rahmen von Oderwald 
 Sozial stattfindet. Weitere Termine finden im 14-tägigen Wechsel in ander
 en Ortschaften der Samtgemeinde Oderwald statt.
ATTACH;FMTTYPE=image/jpeg:https://www.dorstadt.de/wp-content/uploads/Skat-
 1.jpg
CATEGORIES:Oderwald Sozial,Skatfreunde
LOCATION:Dorfgemeinschaftshaus\, Schulstraße 11\, Dorstadt\, 38312\, Deuts
 chland
X-APPLE-STRUCTURED-LOCATION;VALUE=URI;X-ADDRESS=Schulstraße 11\, Dorstadt\
 , 38312\, Deutschland;X-APPLE-RADIUS=100;X-TITLE=Dorfgemeinschaftshaus:geo
 :0,0
END:VEVENT
BEGIN:VTIMEZONE
TZID:Europe/Berlin
X-LIC-LOCATION:Europe/Berlin
BEGIN:STANDARD
DTSTART:20241027T020000
TZOFFSETFROM:+0200
TZOFFSETTO:+0100
TZNAME:CET
END:STANDARD
END:VTIMEZONE
END:VCALENDAR