BEGIN:VCALENDAR
VERSION:2.0
PRODID:-//wp-events-plugin.com//7.2.3.1//EN
TZID:Europe/Berlin
X-WR-TIMEZONE:Europe/Berlin
BEGIN:VEVENT
UID:352@dorstadt.de
DTSTART;TZID=Europe/Berlin:20230621T193000
DTEND;TZID=Europe/Berlin:20230621T193000
DTSTAMP:20230616T113304Z
URL:https://www.dorstadt.de/Kalender/sitzung-des-gemeinderates-5/
SUMMARY:Sitzung des Gemeinderates
DESCRIPTION:Am Mittwoch\, 21.06.2023 findet um 19:30 Uhr im Dorfgemeinschaf
 tshaus Dorstadt\,\nSchulstraße 11\, 38312 Dorstadt\, die 8. Sitzung des R
 ates der Gemeinde Dorstadt statt.\n\nTagesordnung: Gemeinderat230621
ATTACH;FMTTYPE=image/jpeg:https://www.dorstadt.de/wp-content/uploads/Wappe
 n_Dorstadt2.jpg
CATEGORIES:Gemeinde
LOCATION:Dorfgemeinschaftshaus\, Schulstraße 11\, Dorstadt\, 38312\, Deuts
 chland
X-APPLE-STRUCTURED-LOCATION;VALUE=URI;X-ADDRESS=Schulstraße 11\, Dorstadt\
 , 38312\, Deutschland;X-APPLE-RADIUS=100;X-TITLE=Dorfgemeinschaftshaus:geo
 :0,0
END:VEVENT
BEGIN:VTIMEZONE
TZID:Europe/Berlin
X-LIC-LOCATION:Europe/Berlin
BEGIN:DAYLIGHT
DTSTART:20230326T030000
TZOFFSETFROM:+0100
TZOFFSETTO:+0200
TZNAME:CEST
END:DAYLIGHT
END:VTIMEZONE
END:VCALENDAR