BEGIN:VCALENDAR
VERSION:2.0
PRODID:-//wp-events-plugin.com//7.2.3.1//EN
TZID:Europe/Berlin
X-WR-TIMEZONE:Europe/Berlin
BEGIN:VEVENT
UID:261@dorstadt.de
DTSTART;TZID=Europe/Berlin:20220320T120000
DTEND;TZID=Europe/Berlin:20220320T120000
DTSTAMP:20220320T170136Z
URL:https://www.dorstadt.de/Kalender/schuetzenverein-koenigsproklamation/
SUMMARY:Schützenverein: Königsproklamation
DESCRIPTION:Die Königsproklamation 2022 findet am 4. September 2022\, gege
 n 12.00 Uhr auf dem Jubiläumsfest der Freiwilligen Feuerwehr im Festzelt 
 neben der Scheune am Alten Holzweg statt.\n\n&nbsp\;
ATTACH;FMTTYPE=image/jpeg:https://www.dorstadt.de/wp-content/uploads/Schü
 tzenverein.jpg
CATEGORIES:Schützenverein,Vereine
LOCATION:Festplatz an der Scheune am Alten Holzweg\, Alter Holzweg\, Dorsta
 dt\, 38312\, Deutschland
X-APPLE-STRUCTURED-LOCATION;VALUE=URI;X-ADDRESS=Alter Holzweg\, Dorstadt\, 
 38312\, Deutschland;X-APPLE-RADIUS=100;X-TITLE=Festplatz an der Scheune am
  Alten Holzweg:geo:0,0
END:VEVENT
BEGIN:VTIMEZONE
TZID:Europe/Berlin
X-LIC-LOCATION:Europe/Berlin
BEGIN:STANDARD
DTSTART:20211031T020000
TZOFFSETFROM:+0200
TZOFFSETTO:+0100
TZNAME:CET
END:STANDARD
END:VTIMEZONE
END:VCALENDAR