BEGIN:VCALENDAR
VERSION:2.0
PRODID:-//wp-events-plugin.com//7.2.3.1//EN
TZID:Europe/Berlin
X-WR-TIMEZONE:Europe/Berlin
BEGIN:VEVENT
UID:176@dorstadt.de
DTSTART;TZID=Europe/Berlin:20200122T183000
DTEND;TZID=Europe/Berlin:20200122T213000
DTSTAMP:20231112T095824Z
URL:https://www.dorstadt.de/Kalender/oderwald-sozial-skatabend-4/
SUMMARY:Oderwald Sozial: Skatabend
DESCRIPTION:Im Rahmen des Projektes "Oderwald Sozial" findet 14-tägig ein 
 Skatabend statt\, zu dem alle Interessierten eingeladen sind. Die Veransta
 ltungsorte sind wechselnd über die Samtgemeinde Oderwald verteit.
CATEGORIES:Oderwald Sozial,Skatfreunde
LOCATION:Sportheim Bornum\, Dorstädter Str. 4\,  Börßum OT Bornum\, 3831
 2\, Deutschland
X-APPLE-STRUCTURED-LOCATION;VALUE=URI;X-ADDRESS=Dorstädter Str. 4\,  Bör
 ßum OT Bornum\, 38312\, Deutschland;X-APPLE-RADIUS=100;X-TITLE=Sportheim 
 Bornum:geo:0,0
END:VEVENT
BEGIN:VTIMEZONE
TZID:Europe/Berlin
X-LIC-LOCATION:Europe/Berlin
BEGIN:STANDARD
DTSTART:20191027T020000
TZOFFSETFROM:+0200
TZOFFSETTO:+0100
TZNAME:CET
END:STANDARD
END:VTIMEZONE
END:VCALENDAR