BEGIN:VCALENDAR
VERSION:2.0
PRODID:-//wp-events-plugin.com//7.2.3.1//EN
TZID:Europe/Berlin
X-WR-TIMEZONE:Europe/Berlin
BEGIN:VEVENT
UID:272@dorstadt.de
DTSTART;TZID=Europe/Berlin:20220501T060000
DTEND;TZID=Europe/Berlin:20220501T120000
DTSTAMP:20220501T064228Z
URL:https://www.dorstadt.de/Kalender/musikalisches-wecken-zum-1-mai/
SUMMARY:Musikalisches Wecken zum 1. Mai
DESCRIPTION:Am 1. Mai findet in Dorstadt traditionell das musikalische Weck
 en durch die Oderwaldmusikanten statt. Dabei werden die Musiker auf einem 
 Anhänger durch das Dorf gefahren und erfreuen die Anwohner an verschieden
 en Stellen durch ein kleines Straßenkonzert.
ATTACH;FMTTYPE=image/jpeg:https://www.dorstadt.de/wp-content/uploads/Musik
 alisches_Wecken.jpg
CATEGORIES:Konzert,MTV,Oderwaldmusikanten,Vereine
LOCATION:Im ganzen Ort\, Im ganzen Ort\, Dorstadt\, 38312\, Deutschland
X-APPLE-STRUCTURED-LOCATION;VALUE=URI;X-ADDRESS=Im ganzen Ort\, Dorstadt\, 
 38312\, Deutschland;X-APPLE-RADIUS=100;X-TITLE=Im ganzen Ort:geo:0,0
END:VEVENT
BEGIN:VTIMEZONE
TZID:Europe/Berlin
X-LIC-LOCATION:Europe/Berlin
BEGIN:DAYLIGHT
DTSTART:20220327T030000
TZOFFSETFROM:+0100
TZOFFSETTO:+0200
TZNAME:CEST
END:DAYLIGHT
END:VTIMEZONE
END:VCALENDAR