BEGIN:VCALENDAR
VERSION:2.0
PRODID:-//wp-events-plugin.com//7.2.3.1//EN
TZID:Europe/Berlin
X-WR-TIMEZONE:Europe/Berlin
BEGIN:VEVENT
UID:270@dorstadt.de
DTSTART;TZID=Europe/Berlin:20220421T190000
DTEND;TZID=Europe/Berlin:20220421T190000
DTSTAMP:20220406T142120Z
URL:https://www.dorstadt.de/Kalender/jahreshauptversammlung-des-vereins-do
 rstaedter-laedchen/
SUMMARY:Jahreshauptversammlung des Vereins Dorstädter Lädchen
DESCRIPTION:Die diesjährige Jahreshauptversammlung des Vereins Dorstädter
  Lädchen findet am 21. April 2022 um 19.00 Uhr im Dorfgemeinschaftshaus s
 tatt. Die Tagesordnung finden Sie hier:\n\nEinladung: Laedchen220421
ATTACH;FMTTYPE=image/jpeg:https://www.dorstadt.de/wp-content/uploads/2018/
 06/DorstadtsLädchen.jpg
CATEGORIES:Dorstädter Lädchen,Vereine
LOCATION:Dorfgemeinschaftshaus\, Schulstraße 11\, Dorstadt\, 38312\, Deuts
 chland
X-APPLE-STRUCTURED-LOCATION;VALUE=URI;X-ADDRESS=Schulstraße 11\, Dorstadt\
 , 38312\, Deutschland;X-APPLE-RADIUS=100;X-TITLE=Dorfgemeinschaftshaus:geo
 :0,0
END:VEVENT
BEGIN:VTIMEZONE
TZID:Europe/Berlin
X-LIC-LOCATION:Europe/Berlin
BEGIN:DAYLIGHT
DTSTART:20220327T030000
TZOFFSETFROM:+0100
TZOFFSETTO:+0200
TZNAME:CEST
END:DAYLIGHT
END:VTIMEZONE
END:VCALENDAR