BEGIN:VCALENDAR
VERSION:2.0
PRODID:-//wp-events-plugin.com//7.2.3.1//EN
TZID:Europe/Berlin
X-WR-TIMEZONE:Europe/Berlin
BEGIN:VEVENT
UID:263@dorstadt.de
DTSTART;TZID=Europe/Berlin:20221113T110000
DTEND;TZID=Europe/Berlin:20221113T110000
DTSTAMP:20220320T170513Z
URL:https://www.dorstadt.de/Kalender/gedenkveranstaltung-zum-volkstrauerta
 g-2/
SUMMARY:Gedenkveranstaltung zum Volkstrauertag
DESCRIPTION:Volkstrauertag 2022 am Kriegerdenkmal\, Treffpunkt am ehemalige
 n „Dorstädter Lädchen“\,  13. November 2022 ab 11.00 Uhr\n\nanschli
 eßend Zusammensein im Schützenheim Dorstadt
ATTACH;FMTTYPE=image/jpeg:https://www.dorstadt.de/wp-content/uploads/Wappe
 n_Dorstadt2.jpg
CATEGORIES:Gemeinde
LOCATION:Kriegerdenkmal\, Harzstraße\, Dorstadt\, 38312\, Deutschland
X-APPLE-STRUCTURED-LOCATION;VALUE=URI;X-ADDRESS=Harzstraße\, Dorstadt\, 38
 312\, Deutschland;X-APPLE-RADIUS=100;X-TITLE=Kriegerdenkmal:geo:0,0
END:VEVENT
BEGIN:VTIMEZONE
TZID:Europe/Berlin
X-LIC-LOCATION:Europe/Berlin
BEGIN:STANDARD
DTSTART:20221030T020000
TZOFFSETFROM:+0200
TZOFFSETTO:+0100
TZNAME:CET
END:STANDARD
END:VTIMEZONE
END:VCALENDAR