BEGIN:VCALENDAR
VERSION:2.0
PRODID:-//wp-events-plugin.com//7.2.3.1//EN
TZID:Europe/Berlin
X-WR-TIMEZONE:Europe/Berlin
BEGIN:VEVENT
UID:189@dorstadt.de
DTSTART;TZID=Europe/Berlin:20201114T100000
DTEND;TZID=Europe/Berlin:20201114T100000
DTSTAMP:20200112T164453Z
URL:https://www.dorstadt.de/Kalender/braunkohlwanderung-3/
SUMMARY:Braunkohlwanderung
DESCRIPTION:
CATEGORIES:MTV,Vereine
LOCATION:-\, -\, -\, Deutschland
X-APPLE-STRUCTURED-LOCATION;VALUE=URI;X-ADDRESS=-\, -\, Deutschland;X-APPLE
 -RADIUS=100;X-TITLE=-:geo:0,0
END:VEVENT
BEGIN:VTIMEZONE
TZID:Europe/Berlin
X-LIC-LOCATION:Europe/Berlin
BEGIN:STANDARD
DTSTART:20201025T020000
TZOFFSETFROM:+0200
TZOFFSETTO:+0100
TZNAME:CET
END:STANDARD
END:VTIMEZONE
END:VCALENDAR